BEGIN:VCALENDAR
VERSION:2.0
PRODID:-//Workshops and Events Calendar - ECPv6.15.17//NONSGML v1.0//EN
CALSCALE:GREGORIAN
METHOD:PUBLISH
X-ORIGINAL-URL:https://workshops.uncg.edu
X-WR-CALDESC:Events for Workshops and Events Calendar
REFRESH-INTERVAL;VALUE=DURATION:PT1H
X-Robots-Tag:noindex
X-PUBLISHED-TTL:PT1H
BEGIN:VTIMEZONE
TZID:America/New_York
BEGIN:DAYLIGHT
TZOFFSETFROM:-0500
TZOFFSETTO:-0400
TZNAME:EDT
DTSTART:20250309T070000
END:DAYLIGHT
BEGIN:STANDARD
TZOFFSETFROM:-0400
TZOFFSETTO:-0500
TZNAME:EST
DTSTART:20251102T060000
END:STANDARD
BEGIN:DAYLIGHT
TZOFFSETFROM:-0500
TZOFFSETTO:-0400
TZNAME:EDT
DTSTART:20260308T070000
END:DAYLIGHT
BEGIN:STANDARD
TZOFFSETFROM:-0400
TZOFFSETTO:-0500
TZNAME:EST
DTSTART:20261101T060000
END:STANDARD
BEGIN:DAYLIGHT
TZOFFSETFROM:-0500
TZOFFSETTO:-0400
TZNAME:EDT
DTSTART:20270314T070000
END:DAYLIGHT
BEGIN:STANDARD
TZOFFSETFROM:-0400
TZOFFSETTO:-0500
TZNAME:EST
DTSTART:20271107T060000
END:STANDARD
END:VTIMEZONE
BEGIN:VEVENT
DTSTART;TZID=America/New_York:20260107T150000
DTEND;TZID=America/New_York:20260107T160000
DTSTAMP:20260424T162839
CREATED:20251212T164747Z
LAST-MODIFIED:20251212T164917Z
UID:10000774-1767798000-1767801600@workshops.uncg.edu
SUMMARY:Meet "Microsoft Education": Scheduling Classes using Teams Meetings in Canvas
DESCRIPTION:Your ability to schedule class meetings directly in Canvas has returned using the new M365 Education LTI tool!  While the Microsoft Education tool contains multiple apps\, today we will focus on the Teams Meetings app and how you can use it to manage class scheduling and recordings management within your Canvas shell. \nWe’ll cover: \n\nEnabling Microsoft Education in Course Navigation\nTurning on the Microsoft Teams Meeting app\nScheduling Class Meetings\nVarious setup options and impacts on students’ meeting visibility and recording access\nSpecial considerations for guest speakers\, cancelling meetings\, etc.\n\n \nPlease contact Shannon Barr at scbarr@uncg.edu with any questions or accessibility requests.
URL:https://workshops.uncg.edu/event/meet-microsoft-education-scheduling-classes-using-teams-meetings-in-canvas-2/
LOCATION:Virtual
CATEGORIES:Information Technology Services (ITS),Learning Technology
ATTACH;FMTTYPE=image/png:https://workshops.uncg.edu/wp-content/uploads/2025/12/Meet-Microsoft-Education-Workshop-Calendar.png
ORGANIZER;CN="Shannon Barr":MAILTO:scbarr@uncg.edu
END:VEVENT
BEGIN:VEVENT
DTSTART;TZID=America/New_York:20260108T110000
DTEND;TZID=America/New_York:20260108T120000
DTSTAMP:20260424T162839
CREATED:20251204T220706Z
LAST-MODIFIED:20251204T220706Z
UID:10000771-1767870000-1767873600@workshops.uncg.edu
SUMMARY:Meet "Microsoft Education": Scheduling Classes using Teams Meetings in Canvas
DESCRIPTION:Your ability to schedule class meetings directly in Canvas has returned using the new M365 Education LTI tool!  While the Microsoft Education tool contains multiple apps\, today we will focus on the Teams Meetings app and how you can use it to manage class scheduling and recordings management within your Canvas shell. \nWe’ll cover: \n\nEnabling Microsoft Education in Course Navigation\nTurning on the Microsoft Teams Meeting app\nScheduling Class Meetings\nVarious setup options and impacts on students’ meeting visibility and recording access\nSpecial considerations for guest speakers\, cancelling meetings\, etc.\n\n \nPlease contact Shannon Barr at scbarr@uncg.edu with any questions or accessibility requests.
URL:https://workshops.uncg.edu/event/meet-microsoft-education-scheduling-classes-using-teams-meetings-in-canvas-3/
LOCATION:Virtual
CATEGORIES:Information Technology Services (ITS),Learning Technology
ATTACH;FMTTYPE=image/png:https://workshops.uncg.edu/wp-content/uploads/2025/12/Meet-Microsoft-Education-Workshop-Calendar.png
ORGANIZER;CN="Shannon Barr":MAILTO:scbarr@uncg.edu
END:VEVENT
BEGIN:VEVENT
DTSTART;TZID=America/New_York:20260108T140000
DTEND;TZID=America/New_York:20260108T150000
DTSTAMP:20260424T162839
CREATED:20251210T173256Z
LAST-MODIFIED:20251210T173256Z
UID:10000772-1767880800-1767884400@workshops.uncg.edu
SUMMARY:CTRL+ALT+Access: Creating Accessible Canvas Content
DESCRIPTION:All digital instructional materials must be WCAG 2.1 AA compliant by April 2026. If this statement comes as a surprise\, or the idea of the task feels daunting or overwhelming\, use this training as your starting point. We will introduce you to basic accessibility principles (SLIDE) that apply to many types of instructional materials\, but are specifically designed to support you with the technical “how-to” so you can begin putting some of those accessibility fundamentals into practice when building content in Canvas using the Rich Content Editor. \nPlease note that this is a repeat workshop from early Fall 2025. While you are welcome to join again\, please be aware that the content will repeat.
URL:https://workshops.uncg.edu/event/ctrlaltaccess-creating-accessible-canvas-content-sp26/
LOCATION:Virtual
CATEGORIES:Accessibility,Faculty,Faculty Professional Development,Information Technology Services (ITS),Learning Technology,Teaching Effectiveness
ATTACH;FMTTYPE=image/png:https://workshops.uncg.edu/wp-content/uploads/2025/07/accessibility.png
ORGANIZER;CN="Shannon Barr":MAILTO:scbarr@uncg.edu
END:VEVENT
BEGIN:VEVENT
DTSTART;TZID=America/New_York:20260109T120000
DTEND;TZID=America/New_York:20260109T130000
DTSTAMP:20260424T162839
CREATED:20251214T172830Z
LAST-MODIFIED:20260105T203600Z
UID:10000775-1767960000-1767963600@workshops.uncg.edu
SUMMARY:Play Chess\,  Not Checkers: How to Leverage Canvas' Accessibility Checkers and Understand their Limits
DESCRIPTION:This session is intended to be an introduction to the Accessibility Checker tools currently available in Canvas: the Rich Content Editor Accessibility Checker and UDOIT Cloud. Inevitably\, course and content specific questions will arise\, so plan to join us after the session for virtual drop in hours with the Instructional Design team from 1-3 PM. \nDuring this initial session\, we will review: \n\nGeneral considerations for using accessibility checker tools\nQuick overview of accessibility checkers in Canvas\, how they compare with each other\, and how to use them strategically\nBasic demo of Rich Content Editor (RCE) Accessibility Checker\nBasic demo of UDOIT Cloud Accessibility Checker
URL:https://workshops.uncg.edu/event/canvasaccessiblilitycheckers/
LOCATION:Virtual
CATEGORIES:Accessibility,Information Technology Services (ITS),Learning Technology
ORGANIZER;CN="Shannon Barr":MAILTO:scbarr@uncg.edu
END:VEVENT
BEGIN:VEVENT
DTSTART;TZID=America/New_York:20260109T130000
DTEND;TZID=America/New_York:20260109T150000
DTSTAMP:20260424T162839
CREATED:20250926T134646Z
LAST-MODIFIED:20251204T185042Z
UID:10000720-1767963600-1767970800@workshops.uncg.edu
SUMMARY:Open Office Hours with ITS: Learning Technology's Instructional Design Team
DESCRIPTION:Drop in every Tuesday from 10AM-12PM for an online conversation with an instructional designer over Microsoft Teams. We can assist with course and assessment design\, answer teaching questions\, and help with Canvas\, Teams\, and other learning technology. No registration is needed. Just add this event to your calendar as a reminder and visit go.uncg.edu/id-office-hours when it’s time to join. If you have any questions about open office hours\, or if you need assistance at another time\, please contact Chris Dunst via Teams chat or email (cbdunst@uncg.edu).
URL:https://workshops.uncg.edu/event/open-office-hours-its-instructional-design-team/2026-01-09/
LOCATION:Microsoft Teams
CATEGORIES:Faculty,Information Technology Services (ITS),Learning Technology
ATTACH;FMTTYPE=image/jpeg:https://workshops.uncg.edu/wp-content/uploads/2025/09/workshop-16x9_4.jpg
ORGANIZER;CN="ITS Learning Technology":MAILTO:6-TECH@uncg.edu
END:VEVENT
BEGIN:VEVENT
DTSTART;TZID=America/New_York:20260112T110000
DTEND;TZID=America/New_York:20260112T120000
DTSTAMP:20260424T162839
CREATED:20260108T175813Z
LAST-MODIFIED:20260108T175813Z
UID:10000793-1768215600-1768219200@workshops.uncg.edu
SUMMARY:Meet "Microsoft Education": Scheduling Classes using Teams Meetings in Canvas
DESCRIPTION:Your ability to schedule class meetings directly in Canvas has returned using the new M365 Education LTI tool!  While the Microsoft Education tool contains multiple apps\, today we will focus on the Teams Meetings app and how you can use it to manage class scheduling and recordings management within your Canvas shell. \nWe’ll cover: \n\nEnabling Microsoft Education in Course Navigation\nTurning on the Microsoft Teams Meeting app\nScheduling Class Meetings\nVarious setup options and impacts on students’ meeting visibility and recording access\nSpecial considerations for guest speakers\, cancelling meetings\, etc.\n\n \nPlease contact Shannon Barr at scbarr@uncg.edu with any questions or accessibility requests.
URL:https://workshops.uncg.edu/event/meet-microsoft-education-scheduling-classes-using-teams-meetings-in-canvas-4/
LOCATION:Virtual
CATEGORIES:Information Technology Services (ITS),Learning Technology
ATTACH;FMTTYPE=image/png:https://workshops.uncg.edu/wp-content/uploads/2025/12/Meet-Microsoft-Education-Workshop-Calendar.png
ORGANIZER;CN="Shannon Barr":MAILTO:scbarr@uncg.edu
END:VEVENT
BEGIN:VEVENT
DTSTART;TZID=America/New_York:20260113T100000
DTEND;TZID=America/New_York:20260113T120000
DTSTAMP:20260424T162839
CREATED:20250926T134646Z
LAST-MODIFIED:20251204T185042Z
UID:10000721-1768298400-1768305600@workshops.uncg.edu
SUMMARY:Open Office Hours with ITS: Learning Technology's Instructional Design Team
DESCRIPTION:Drop in every Tuesday from 10AM-12PM for an online conversation with an instructional designer over Microsoft Teams. We can assist with course and assessment design\, answer teaching questions\, and help with Canvas\, Teams\, and other learning technology. No registration is needed. Just add this event to your calendar as a reminder and visit go.uncg.edu/id-office-hours when it’s time to join. If you have any questions about open office hours\, or if you need assistance at another time\, please contact Chris Dunst via Teams chat or email (cbdunst@uncg.edu).
URL:https://workshops.uncg.edu/event/open-office-hours-its-instructional-design-team/2026-01-13/
LOCATION:Microsoft Teams
CATEGORIES:Faculty,Information Technology Services (ITS),Learning Technology
ATTACH;FMTTYPE=image/jpeg:https://workshops.uncg.edu/wp-content/uploads/2025/09/workshop-16x9_4.jpg
ORGANIZER;CN="ITS Learning Technology":MAILTO:6-TECH@uncg.edu
END:VEVENT
BEGIN:VEVENT
DTSTART;TZID=America/New_York:20260120T100000
DTEND;TZID=America/New_York:20260120T120000
DTSTAMP:20260424T162839
CREATED:20250926T134646Z
LAST-MODIFIED:20251204T185042Z
UID:10000722-1768903200-1768910400@workshops.uncg.edu
SUMMARY:Open Office Hours with ITS: Learning Technology's Instructional Design Team
DESCRIPTION:Drop in every Tuesday from 10AM-12PM for an online conversation with an instructional designer over Microsoft Teams. We can assist with course and assessment design\, answer teaching questions\, and help with Canvas\, Teams\, and other learning technology. No registration is needed. Just add this event to your calendar as a reminder and visit go.uncg.edu/id-office-hours when it’s time to join. If you have any questions about open office hours\, or if you need assistance at another time\, please contact Chris Dunst via Teams chat or email (cbdunst@uncg.edu).
URL:https://workshops.uncg.edu/event/open-office-hours-its-instructional-design-team/2026-01-20/
LOCATION:Microsoft Teams
CATEGORIES:Faculty,Information Technology Services (ITS),Learning Technology
ATTACH;FMTTYPE=image/jpeg:https://workshops.uncg.edu/wp-content/uploads/2025/09/workshop-16x9_4.jpg
ORGANIZER;CN="ITS Learning Technology":MAILTO:6-TECH@uncg.edu
END:VEVENT
BEGIN:VEVENT
DTSTART;TZID=America/New_York:20260127T100000
DTEND;TZID=America/New_York:20260127T120000
DTSTAMP:20260424T162839
CREATED:20250926T134646Z
LAST-MODIFIED:20251204T185042Z
UID:10000723-1769508000-1769515200@workshops.uncg.edu
SUMMARY:Open Office Hours with ITS: Learning Technology's Instructional Design Team
DESCRIPTION:Drop in every Tuesday from 10AM-12PM for an online conversation with an instructional designer over Microsoft Teams. We can assist with course and assessment design\, answer teaching questions\, and help with Canvas\, Teams\, and other learning technology. No registration is needed. Just add this event to your calendar as a reminder and visit go.uncg.edu/id-office-hours when it’s time to join. If you have any questions about open office hours\, or if you need assistance at another time\, please contact Chris Dunst via Teams chat or email (cbdunst@uncg.edu).
URL:https://workshops.uncg.edu/event/open-office-hours-its-instructional-design-team/2026-01-27/
LOCATION:Microsoft Teams
CATEGORIES:Faculty,Information Technology Services (ITS),Learning Technology
ATTACH;FMTTYPE=image/jpeg:https://workshops.uncg.edu/wp-content/uploads/2025/09/workshop-16x9_4.jpg
ORGANIZER;CN="ITS Learning Technology":MAILTO:6-TECH@uncg.edu
END:VEVENT
BEGIN:VEVENT
DTSTART;TZID=America/New_York:20260129T140000
DTEND;TZID=America/New_York:20260129T150000
DTSTAMP:20260424T162839
CREATED:20251214T174607Z
LAST-MODIFIED:20251214T174607Z
UID:10000776-1769695200-1769698800@workshops.uncg.edu
SUMMARY:Proactive Practices: Using Canvas & CARE to Support Students Experiencing Distress
DESCRIPTION:Join Ashley O’Donnell from Dean of Students Office and Shannon Barr from ITS Learning Technology to discuss leveraging campus resources and tools to support students who are experiencing life stressors that impact their student experience\, but in a way that is more sustainable and within scope of practice for faculty. Ashley will share about the CARE Team\, an interdisciplinary team of campus staff who provide triage support for students experiencing stressors. Shannon will share more information about using the tools in Canvas to extend and manage the academic flexibilities that students may benefit from when navigating life stressors. \nIn this session\, we will: \n\nIntroduce the CARE Team and explain their role in providing student support\nExplain how you can contact the CARE team with a concern about a student\nShare the CARE team outreach process and how the CARE Team supports students\nProvide a brief overview of concerning academic or non-academic behaviors and how to utilize Canvas to recognize academic disengagement\nDo a Canvas demonstration of:\n\nReopening and extending assignments\nRemoving late penalties and excusing assignments/attendance\nRequesting extended student access to Canvas for an Incomplete\nTime allowing\, review using Microsoft Education tool to record classroom lectures using Teams Meetings
URL:https://workshops.uncg.edu/event/proactive-practices-using-canvas-care-to-support-students-experiencing-distress-2/
LOCATION:Virtual
CATEGORIES:Dean of Students Office Workshop Series,Learning Technology
ATTACH;FMTTYPE=image/png:https://workshops.uncg.edu/wp-content/uploads/2025/09/Canvas-and-CARE-Session.png
ORGANIZER;CN="Shannon Barr":MAILTO:scbarr@uncg.edu
END:VEVENT
BEGIN:VEVENT
DTSTART;TZID=America/New_York:20260130T130000
DTEND;TZID=America/New_York:20260130T133000
DTSTAMP:20260424T162839
CREATED:20260130T131707Z
LAST-MODIFIED:20260130T131707Z
UID:10000823-1769778000-1769779800@workshops.uncg.edu
SUMMARY:Prep to Pivot Online: Straightforward Set Up\, Simple Strategies
DESCRIPTION:The weather may be slippery\, but your transition online doesn’t have to be. ITS Learning Technology will help you pivot your classes online with clear steps and simple strategies—so you stay balanced and in control. \nIn this demo\, we’ll show: \n\nHow to schedule an online class Teams meeting that is easy for your students to join in Canvas with Microsoft Education\nHow to test your audio\, microphone\, and share your screen (Mac users – especially helpful for you!)\nA few simple ways to engage students
URL:https://workshops.uncg.edu/event/prep-to-pivot-online-straightforward-set-up-simple-strategies/
LOCATION:TBD\, NC\, United States
CATEGORIES:Information Technology Services (ITS),Learning Technology
ORGANIZER;CN="Shannon Barr":MAILTO:scbarr@uncg.edu
END:VEVENT
BEGIN:VEVENT
DTSTART;TZID=America/New_York:20260130T150000
DTEND;TZID=America/New_York:20260130T153000
DTSTAMP:20260424T162839
CREATED:20260130T132110Z
LAST-MODIFIED:20260130T132110Z
UID:10000825-1769785200-1769787000@workshops.uncg.edu
SUMMARY:Prep to Pivot Online: Straightforward Set Up\, Simple Strategies
DESCRIPTION:The weather may be slippery\, but your transition online doesn’t have to be. ITS Learning Technology will help you pivot your classes online with clear steps and simple strategies—so you stay balanced and in control. \nIn this demo\, we’ll show: \n\nHow to schedule an online class Teams meeting that is easy for your students to join in Canvas with Microsoft Education\nHow to test your audio\, microphone\, and share your screen (Mac users – especially helpful for you!)\nA few simple ways to engage students
URL:https://workshops.uncg.edu/event/prep-to-pivot-online-straightforward-set-up-simple-strategies-2/
LOCATION:TBD\, NC\, United States
CATEGORIES:Information Technology Services (ITS),Learning Technology
ORGANIZER;CN="Shannon Barr":MAILTO:scbarr@uncg.edu
END:VEVENT
END:VCALENDAR