BEGIN:VCALENDAR
VERSION:2.0
PRODID:-//Workshops and Events Calendar - ECPv6.15.17//NONSGML v1.0//EN
CALSCALE:GREGORIAN
METHOD:PUBLISH
X-ORIGINAL-URL:https://workshops.uncg.edu
X-WR-CALDESC:Events for Workshops and Events Calendar
REFRESH-INTERVAL;VALUE=DURATION:PT1H
X-Robots-Tag:noindex
X-PUBLISHED-TTL:PT1H
BEGIN:VTIMEZONE
TZID:America/New_York
BEGIN:DAYLIGHT
TZOFFSETFROM:-0500
TZOFFSETTO:-0400
TZNAME:EDT
DTSTART:20250309T070000
END:DAYLIGHT
BEGIN:STANDARD
TZOFFSETFROM:-0400
TZOFFSETTO:-0500
TZNAME:EST
DTSTART:20251102T060000
END:STANDARD
BEGIN:DAYLIGHT
TZOFFSETFROM:-0500
TZOFFSETTO:-0400
TZNAME:EDT
DTSTART:20260308T070000
END:DAYLIGHT
BEGIN:STANDARD
TZOFFSETFROM:-0400
TZOFFSETTO:-0500
TZNAME:EST
DTSTART:20261101T060000
END:STANDARD
BEGIN:DAYLIGHT
TZOFFSETFROM:-0500
TZOFFSETTO:-0400
TZNAME:EDT
DTSTART:20270314T070000
END:DAYLIGHT
BEGIN:STANDARD
TZOFFSETFROM:-0400
TZOFFSETTO:-0500
TZNAME:EST
DTSTART:20271107T060000
END:STANDARD
END:VTIMEZONE
BEGIN:VEVENT
DTSTART;TZID=America/New_York:20260421T093000
DTEND;TZID=America/New_York:20260421T100000
DTSTAMP:20260419T193542
CREATED:20260311T164813Z
LAST-MODIFIED:20260311T164813Z
UID:10000895-1776763800-1776765600@workshops.uncg.edu
SUMMARY:Spring Cleaning for Accessibility: Deep Clean with UDOIT
DESCRIPTION:Spring Cleaning to Enhance Accessibility is a workshop series curated to support and streamline your accessibility efforts. The ITS: Learning Technology team will share actionable strategies for decluttering your Canvas course\, polishing your Microsoft files and deep cleaning your UDOIT report. You’ll be ready to copy your Canvas course each semester with confidence. The workshop format will be 30 minutes of presentation\, followed by an optional 2 hours of drop-in instructional technology support. Join us for any or all sessions in this series. \nUDOIT is an accessibility checker you can enable in your Canvas course. We’ll show you how to run an accessibility report and work through remediation recommendations in UFIXIT. Together\, we’ll demystify the UDOIT scorecard and share ideas to simplify your workflow. \nLeave this session with: \n\nAbility to access and navigate UDOIT\nKnowledge and resources to interpret your UDOIT scorecard and UFIXIT issues\nStrategies to simplify your remediation process
URL:https://workshops.uncg.edu/event/spring-cleaning-for-accessibility-deep-clean-with-udoit/
LOCATION:Virtual – Teams\, NC\, United States
CATEGORIES:Accessibility,Information Technology Services (ITS),Learning Technology,Spring Cleaning
ATTACH;FMTTYPE=image/jpeg:https://workshops.uncg.edu/wp-content/uploads/2026/03/AdobeStock_1840317319-scaled.jpeg
ORGANIZER;CN="Shannon Barr":MAILTO:scbarr@uncg.edu
END:VEVENT
BEGIN:VEVENT
DTSTART;TZID=America/New_York:20260428T093000
DTEND;TZID=America/New_York:20260428T100000
DTSTAMP:20260419T193542
CREATED:20260311T165928Z
LAST-MODIFIED:20260311T165928Z
UID:10000896-1777368600-1777370400@workshops.uncg.edu
SUMMARY:Copy with Confidence: Best Practices for Canvas Course Imports
DESCRIPTION:Copying (or importing) old Canvas courses is a very common practice – and can come with some frustrating pitfalls. Following a few simple best practices during course import will help you avoid these common errors\, save you time during the course set up process\, and reduce emails from students with access issues. \nLeave this session with: \n\nBest practices for importing previous course content\nConsiderations for organizing and configuring imported content\nTime-saving tools to use when getting your current course ready for students\n\nThe session will be 30 minutes of information and demo\, followed by an optional\, 2-hour drop-in instructional technology support session for personalized support.
URL:https://workshops.uncg.edu/event/copy-with-confidence-best-practices-for-canvas-course-imports/
LOCATION:TBD\, NC\, United States
CATEGORIES:Information Technology Services (ITS),Learning Technology,Spring Cleaning
ORGANIZER;CN="Shannon Barr":MAILTO:scbarr@uncg.edu
END:VEVENT
END:VCALENDAR